BEGIN:VCALENDAR
VERSION:2.0
PRODID:-//wp-events-plugin.com//7.2.3.1//EN
TZID:Europe/Paris
X-WR-TIMEZONE:Europe/Paris
BEGIN:VEVENT
UID:2330@cafeculturelcitoyen.org
DTSTART;TZID=Europe/Paris:20230721T203000
DTEND;TZID=Europe/Paris:20230721T220000
DTSTAMP:20230713T073911Z
URL:https://cafeculturelcitoyen.org/evenements/yan-yalego-en-concert/
SUMMARY:Yan Yalego en concert
DESCRIPTION:Yan Yalego à la guitare\, et au chant noius avait déjà réga
 lé avec son duo Baron Gabriel. Il revient ce mois-ci pour l'un des dernie
 rs concerts de la saison. Répertoire oscillant entre le blues traditionne
 l\, le folk et le rock'n'roll des origines\, émaillé de quelques reprise
 s assez décalées de standards plus connus.\n\nOn vous souhaite un super 
 concert
ATTACH;FMTTYPE=image/jpeg:https://cafeculturelcitoyen.org/wp-content/uploa
 ds/2023/07/YanYalegoPortait-2134626661.jpg
END:VEVENT
BEGIN:VTIMEZONE
TZID:Europe/Paris
X-LIC-LOCATION:Europe/Paris
BEGIN:DAYLIGHT
DTSTART:20230326T030000
TZOFFSETFROM:+0100
TZOFFSETTO:+0200
TZNAME:CEST
END:DAYLIGHT
END:VTIMEZONE
END:VCALENDAR