BEGIN:VCALENDAR
VERSION:2.0
PRODID:-//wp-events-plugin.com//7.2.3.1//EN
TZID:Europe/Paris
X-WR-TIMEZONE:Europe/Paris
BEGIN:VEVENT
UID:1956@cafeculturelcitoyen.org
DTSTART;TZID=Europe/Paris;VALUE=DATE:20221121
DTEND;TZID=Europe/Paris;VALUE=DATE:20230501
DTSTAMP:20230218T160038Z
URL:https://cafeculturelcitoyen.org/evenements/voulez-vous-vous-investir-d
 ans-un-projet-culturel-et-collectif-le-3c-vous-attend-2/
SUMMARY:Appel à dons pour le 3C !
DESCRIPTION:Aujourd’hui notre café connaît de réelles difficultés fin
 ancières\, c'est le moment de l'aider avec le maximum dons !
ATTACH;FMTTYPE=image/jpeg:https://cafeculturelcitoyen.org/wp-content/uploa
 ds/2020/06/3CEte-Ban.jpg
END:VEVENT
BEGIN:VTIMEZONE
TZID:Europe/Paris
X-LIC-LOCATION:Europe/Paris
BEGIN:STANDARD
DTSTART:20221030T020000
TZOFFSETFROM:+0200
TZOFFSETTO:+0100
TZNAME:CET
END:STANDARD
BEGIN:DAYLIGHT
DTSTART:20230326T030000
TZOFFSETFROM:+0100
TZOFFSETTO:+0200
TZNAME:CEST
END:DAYLIGHT
END:VTIMEZONE
END:VCALENDAR