BEGIN:VCALENDAR
VERSION:2.0
PRODID:-//wp-events-plugin.com//7.2.3.1//EN
TZID:Europe/Paris
X-WR-TIMEZONE:Europe/Paris
BEGIN:VEVENT
UID:2262@cafeculturelcitoyen.org
DTSTART;TZID=Europe/Paris:20230506T180000
DTEND;TZID=Europe/Paris:20230506T200000
DTSTAMP:20230426T193158Z
URL:https://cafeculturelcitoyen.org/evenements/vernissage-thibaud-salman/
SUMMARY:Vernissage - Thibaud Salman
DESCRIPTION:Thibaud Salman\n\nPEINTURE ET DESSIN\n\n&nbsp\;\n\nArtiste aixo
 is\, 30 ans\, autodidacte et passionné par l’art\, il est entièrement 
 investi dans sa vocation\, son activité en tant qu'artiste peintre.\n\nDe
 ux processus de création légèrement distincts\, qui sont les deux faces
  d'une même pièce\, qu'ils répondent à des besoins différents.\n\nL'u
 n est dans une dynamique spontanée\, brut\, ce qui laisse libre cours à 
 un élan de pure expression au résultat souvent abstrait.\n\nAinsi le spe
 ctateur est libre d'imagination\, de projection et donc d'introspection.\n
 \nL’autre est plus minutieux et réfléchi\, bien qu'ayant toujours pour
  fondement la spontanéité. On peut y voir un résultat plus figuratif\, 
 dans une composition plus canalisée et encadrée\, proposant au spectateu
 r un sens de lecture plus concret bien qu'il lui restera évidemment subje
 ctif.
ATTACH;FMTTYPE=image/jpeg:https://cafeculturelcitoyen.org/wp-content/uploa
 ds/2023/04/Image.jpeg
END:VEVENT
BEGIN:VTIMEZONE
TZID:Europe/Paris
X-LIC-LOCATION:Europe/Paris
BEGIN:DAYLIGHT
DTSTART:20230326T030000
TZOFFSETFROM:+0100
TZOFFSETTO:+0200
TZNAME:CEST
END:DAYLIGHT
END:VTIMEZONE
END:VCALENDAR