BEGIN:VCALENDAR
VERSION:2.0
PRODID:-//wp-events-plugin.com//7.2.3.1//EN
TZID:Europe/Paris
X-WR-TIMEZONE:Europe/Paris
BEGIN:VEVENT
UID:1715@cafeculturelcitoyen.org
DTSTART;TZID=Europe/Paris:20220507T150000
DTEND;TZID=Europe/Paris:20220507T160000
DTSTAMP:20220421T163650Z
URL:https://cafeculturelcitoyen.org/evenements/vernissage-safia/
SUMMARY:Vernissage Safia
DESCRIPTION:Autodidacte\, en recherche d'une forme d'art\, Safia a commenc
 é par le théâtre d'impro.\, puis la poterie\, le chant lyrique\, le cin
 éma...avant d'arriver à la peinture.\nUn essai a produit une toile puis 
 2...\nElle a laissé l'acrylique pour se consacrer à l'aquarelle depuis 6
  mois.
ATTACH;FMTTYPE=image/jpeg:https://cafeculturelcitoyen.org/wp-content/uploa
 ds/2022/04/Sans-titre43.jpg
END:VEVENT
BEGIN:VTIMEZONE
TZID:Europe/Paris
X-LIC-LOCATION:Europe/Paris
BEGIN:DAYLIGHT
DTSTART:20220327T030000
TZOFFSETFROM:+0100
TZOFFSETTO:+0200
TZNAME:CEST
END:DAYLIGHT
END:VTIMEZONE
END:VCALENDAR