BEGIN:VCALENDAR
VERSION:2.0
PRODID:-//wp-events-plugin.com//7.2.3.1//EN
TZID:Europe/Paris
X-WR-TIMEZONE:Europe/Paris
BEGIN:VEVENT
UID:1828@cafeculturelcitoyen.org
DTSTART;TZID=Europe/Paris:20220916T180000
DTEND;TZID=Europe/Paris:20220916T193000
DTSTAMP:20220909T121931Z
URL:https://cafeculturelcitoyen.org/evenements/vernissage-geoffray-gregoir
 e/
SUMMARY:Vernissage - Geoffray Grégoire
DESCRIPTION:Geoffray Grégoire viendra accrocher ses œuvres le 9 septembre
 . Venez nombreux et nombreuses admirer ce très beau travail plastique.\n\
 nGrégoire Geoffray\, artiste bordelais\, peint depuis 2014. Abstraction\,
  pointillisme\, plus rarement figuratif\, son travail l'aide comme il dit 
 " à évacuer un trop plein d'énergie\, quand je suis en forme. Même si 
 je n'ai jamais pratiqué dans des écoles de beaux-arts\, j'ai continué 
 à peindre des formes confondues très colorées."\n\nIl ajoute : "j'espè
 re que mon art vous plaira sous ses formes et couleurs diverses et variée
 s\, vous permettra de voyager spirituellement sur chacune de mes œuvres\,
  et que vous découvrirez de nouvelles perspectives selon vos humeurs avec
  mes concepts impressionnistes minimalistes..."
ATTACH;FMTTYPE=image/jpeg:https://cafeculturelcitoyen.org/wp-content/uploa
 ds/2022/09/Capture-decran-2022-09-01-101457.jpg
END:VEVENT
BEGIN:VTIMEZONE
TZID:Europe/Paris
X-LIC-LOCATION:Europe/Paris
BEGIN:DAYLIGHT
DTSTART:20220327T030000
TZOFFSETFROM:+0100
TZOFFSETTO:+0200
TZNAME:CEST
END:DAYLIGHT
END:VTIMEZONE
END:VCALENDAR