BEGIN:VCALENDAR
VERSION:2.0
PRODID:-//wp-events-plugin.com//7.2.3.1//EN
TZID:Europe/Paris
X-WR-TIMEZONE:Europe/Paris
BEGIN:VEVENT
UID:1903@cafeculturelcitoyen.org
DTSTART;TZID=Europe/Paris:20221006T180000
DTEND;TZID=Europe/Paris:20221006T200000
DTSTAMP:20221005T064939Z
URL:https://cafeculturelcitoyen.org/evenements/vernissage-francoise-sirot/
SUMMARY:Vernissage Florence Sirot
DESCRIPTION:Architecte du patrimoine\, et artiste peintre passionnée\, Flo
 rence Sirot est venue très tôt à l'Architecture par le dessin :\n\n"J'a
 i vite été séduite par la complexité de cet art et sa forte dimension 
 sociale et environnementale.\nCet état d'équilibre subtil entre des pier
 res stables\, des corps mobiles et des idées volatiles me fascine totalem
 ent.\nDans le versant plastique de mon travail\, je m'autorise la rencontr
 e de la précision\, de la rigueur et de la folie\, de l'instinct dans le 
 but de valoriser l’Existant\, le patrimoine bâti.\nAinsi\, si l’Archi
 tecture demande que chaque ligne désigne une chose construite\, la Peintu
 re permet le flou\, le lâcher-prise…\nCes apparentes contradictions se 
 complètent à mon sens parfaitement et me définissent en quelque sorte.\
 nDans cette série d’« Intérieurs »\, captés au cours de mes visit
 es architecturales\, je cherche à\ntransposer l’abstraction d’une amb
 iance tout en valorisant le lieu par un dessin structuré\, détaillé et 
 composé.\nCes propositions\, intimes et colorées\, peuvent paraître hé
 téroclites\, mais j'assume pleinement cette diversité et revendique cett
 e congruence somme toute très personnelle."                
             
ATTACH;FMTTYPE=image/jpeg:https://cafeculturelcitoyen.org/wp-content/uploa
 ds/2022/09/Paris-Galerie-Vivienne.jpg
END:VEVENT
BEGIN:VTIMEZONE
TZID:Europe/Paris
X-LIC-LOCATION:Europe/Paris
BEGIN:DAYLIGHT
DTSTART:20220327T030000
TZOFFSETFROM:+0100
TZOFFSETTO:+0200
TZNAME:CEST
END:DAYLIGHT
END:VTIMEZONE
END:VCALENDAR