BEGIN:VCALENDAR
VERSION:2.0
PRODID:-//wp-events-plugin.com//7.2.3.1//EN
TZID:Europe/Paris
X-WR-TIMEZONE:Europe/Paris
BEGIN:VEVENT
UID:2448@cafeculturelcitoyen.org
DTSTART;TZID=Europe/Paris:20231104T190000
DTEND;TZID=Europe/Paris:20231104T220000
DTSTAMP:20231024T124708Z
URL:https://cafeculturelcitoyen.org/evenements/vernissage-exposition-de-an
 toine-tarantonio-beauman/
SUMMARY:Vernissage - Exposition de Tarantonio
DESCRIPTION:La photographie\, la peinture\, le collage\, l’assemblage\, l
 es feuilles d’un magasine\, la ville\, son mobilier urbain\, tout nourri
 t mon inspiration. Dans mon imaginaire cela donne naissance à des person
 nages issus d’un univers fantasmagorique\, tel une vision hallucinée du
  monde de demain. Ces créatures cherchent à trouver leur place dans le 
 monde réel en investissant l’espace urbain à la recherche de notre reg
 ard.  Les intempéries\, les interactions humaines ou autres décideront
  du devenir de ces œuvres à la durée de vie aléatoire. Le but de cette
  exposition est de fixer le point d’orgue de leur existence grâce à la
  photographie.
ATTACH;FMTTYPE=image/jpeg:https://cafeculturelcitoyen.org/wp-content/uploa
 ds/2023/10/Vernissage.jpg
END:VEVENT
BEGIN:VTIMEZONE
TZID:Europe/Paris
X-LIC-LOCATION:Europe/Paris
BEGIN:STANDARD
DTSTART:20231029T020000
TZOFFSETFROM:+0200
TZOFFSETTO:+0100
TZNAME:CET
END:STANDARD
END:VTIMEZONE
END:VCALENDAR