BEGIN:VCALENDAR
VERSION:2.0
PRODID:-//wp-events-plugin.com//7.2.3.1//EN
TZID:Europe/Paris
X-WR-TIMEZONE:Europe/Paris
BEGIN:VEVENT
UID:1749@cafeculturelcitoyen.org
DTSTART;TZID=Europe/Paris:20220609T180000
DTEND;TZID=Europe/Paris:20220609T220000
DTSTAMP:20220530T142351Z
URL:https://cafeculturelcitoyen.org/evenements/vernissage-expo-anne-charma
 sson-compagnons-dexil/
SUMMARY:Vernissage - Expo Anne Charmasson - Compagnons d'Exil
DESCRIPTION:Compagnons d’exil\n \nUne chemise à carreaux\, une cafetiè
 re en terre\, un chapeau de prière immaculé\, une petit boîte en bois a
 vec des noyaux de dattes\, un chapelet\, des baskets qui donnent des ailes
  … ces objets ont un point commun : Ils ont accompagné de jeunes demand
 eurs d’asile dans le périple qu’ils ont entrepris pour fuir leur pays
  et trouver ailleurs une vie meilleure. Ils leur rappellent leur enfance\,
  leur pays\, leur errance\, leurs espoirs.\nLes textes qu’ils ont écrit
 s et les photos qui les illustrent\, sont le fruit d’un travail collecti
 f mené dans le cadre du Collectif Agir. Ils seront présentés par Anne C
 harmasson.\n\n\nLes photos seront exposées au 3 C du 9 juin au 9 juillet\
 n\n\nA noter : cette exposition se place en première partie du café Migr
 ant du même jour\, dont elle compose une espèce d'ouverture. Elle s'acco
 mpagne d'une lecture du texte Les Compagnons d'Exil\n
ATTACH;FMTTYPE=image/jpeg:https://cafeculturelcitoyen.org/wp-content/uploa
 ds/2022/05/Capture-decran-2022-05-25-142940.jpg
END:VEVENT
BEGIN:VTIMEZONE
TZID:Europe/Paris
X-LIC-LOCATION:Europe/Paris
BEGIN:DAYLIGHT
DTSTART:20220327T030000
TZOFFSETFROM:+0100
TZOFFSETTO:+0200
TZNAME:CEST
END:DAYLIGHT
END:VTIMEZONE
END:VCALENDAR