BEGIN:VCALENDAR
VERSION:2.0
PRODID:-//wp-events-plugin.com//7.2.3.1//EN
TZID:Europe/Paris
X-WR-TIMEZONE:Europe/Paris
BEGIN:VEVENT
UID:2742@cafeculturelcitoyen.org
DTSTART;TZID=Europe/Paris:20240207T180000
DTEND;TZID=Europe/Paris:20240207T193000
DTSTAMP:20240130T130724Z
URL:https://cafeculturelcitoyen.org/evenements/vernissage-de-florian-braiz
 at/
SUMMARY:Vernissage de Florian Braizat
DESCRIPTION:Illustrateur autodidacte\, Flo est le chantre de la technique d
 ite de « la main tremblante ». Art ancestral auquel il s’est formé en
  écumant quelques tavernes\, parfois sordides\, de Macao à Port de Bouc\
 , au contact de divers Maîtres borgnes et manchots pour la plupart.\n\nLa
  base de ce concept artistique consiste à se munir de tous les outils de 
 création (crayons\,feutres\,bombes\,toiles\,papiers\,tablettes graphique
 …etc)\, les disposer devant soi\, fermer les yeux et s’assoupir en esp
 érant que la chute du corps de l’artiste sur son matériel donnera quel
 que chose d’intéressant.\n\nÇa a l’air mariole présenté comme ça
 … et ça l’est !\n\nEt un mot sur l’expo :\n\nLupus\, the facetious 
 chien à punk pop\, sort de son carton et vient squatter les murs des 3C\,
  pour votre plus grand bien…et surtout le sien.\n\nVenez vous esbaudir l
 es mirettes au contact du précurseur du PUPP’ART (c’est comme le POP 
 ART\, mais avec un chien dedans)\, ainsi que deux\, trois trucs un peu dif
 férents\, mais pas tant !
ATTACH;FMTTYPE=image/jpeg:https://cafeculturelcitoyen.org/wp-content/uploa
 ds/2024/01/Lupus-the-Chien-scaled.jpg
END:VEVENT
BEGIN:VTIMEZONE
TZID:Europe/Paris
X-LIC-LOCATION:Europe/Paris
BEGIN:STANDARD
DTSTART:20231029T020000
TZOFFSETFROM:+0200
TZOFFSETTO:+0100
TZNAME:CET
END:STANDARD
END:VTIMEZONE
END:VCALENDAR