BEGIN:VCALENDAR
VERSION:2.0
PRODID:-//wp-events-plugin.com//7.2.3.1//EN
TZID:Europe/Paris
X-WR-TIMEZONE:Europe/Paris
BEGIN:VEVENT
UID:2012@cafeculturelcitoyen.org
DTSTART;TZID=Europe/Paris:20230107T150000
DTEND;TZID=Europe/Paris:20230107T170000
DTSTAMP:20230102T184446Z
URL:https://cafeculturelcitoyen.org/evenements/vernissage-de-chairs-et-dea
 ux-marie-delphine/
SUMMARY:Vernissage - DE CHAIRS ET D’EAUX\, Marie Delphine
DESCRIPTION:DE CHAIRS ET D’EAUX\nMi-fleurs\, mi-poissons\, aux frontière
 s de l’abstraction\, des états\nd’âme en évolution.\nDes encres au 
 dessin agité dans les eaux marines\, troubles et\nétranges\, laissent la
  place à une certaine tranquillité dans des corps\nen étude\, tantôt d
 éformés\, tantôt inachevés.\nA la recherche d’une silhouette rassura
 nte\, féminine\, courbes et\ndouceurs s’entremêlent d’un trait plus 
 limpide. 
ATTACH;FMTTYPE=image/jpeg:https://cafeculturelcitoyen.org/wp-content/uploa
 ds/2023/01/Capture-decran-2023-01-02-161007.png
END:VEVENT
BEGIN:VTIMEZONE
TZID:Europe/Paris
X-LIC-LOCATION:Europe/Paris
BEGIN:STANDARD
DTSTART:20221030T020000
TZOFFSETFROM:+0200
TZOFFSETTO:+0100
TZNAME:CET
END:STANDARD
END:VTIMEZONE
END:VCALENDAR