BEGIN:VCALENDAR
VERSION:2.0
PRODID:-//wp-events-plugin.com//7.2.3.1//EN
TZID:Europe/Paris
X-WR-TIMEZONE:Europe/Paris
BEGIN:VEVENT
UID:1934@cafeculturelcitoyen.org
DTSTART;TZID=Europe/Paris:20221102T180000
DTEND;TZID=Europe/Paris:20221102T193000
DTSTAMP:20221019T153753Z
URL:https://cafeculturelcitoyen.org/evenements/vernissage-cangou/
SUMMARY:Vernissage - Cangou
DESCRIPTION:\nCANGOU Rodrigue Rhalis\nFaire parler le dessin\, la peinture 
 ... par le biais des cosmogonies africaines-afro-caribéennes en retraçan
 t le parallèle existant entre l'Afrique mère et sa diaspora. D'une certa
 ine manière faire en sorte de conter ces peintures (ces dessins) et non r
 aconter (dans le sens du conte comme le font et le faisait jadis nos ancê
 tres).\n\nL'artiste peintre CANGOU est un passionné de ses cultures Afric
 aines et caribéennes\, étant lui même descendant de Mandingues et de Ko
 ngo immigrés et déportés dans la Caraïbe (sur l'île de GWADLOUP). Dep
 uis son enfance il s'intéresse au dessin \, à la peinture\, il prend le 
 pari de combiner cet art plastique et la culture afin de faire passer un m
 essage fort par le biais de  la réalisation picturale...\nSon projet :
   développer des projets avec des enfants d'Afrique\, de la Caraïbe et 
 d'ailleurs.\n                       \n\n
ATTACH;FMTTYPE=image/jpeg:https://cafeculturelcitoyen.org/wp-content/uploa
 ds/2022/10/Capture-decran-2022-10-19-173519.png
END:VEVENT
BEGIN:VTIMEZONE
TZID:Europe/Paris
X-LIC-LOCATION:Europe/Paris
BEGIN:STANDARD
DTSTART:20221030T020000
TZOFFSETFROM:+0200
TZOFFSETTO:+0100
TZNAME:CET
END:STANDARD
END:VTIMEZONE
END:VCALENDAR