BEGIN:VCALENDAR
VERSION:2.0
PRODID:-//wp-events-plugin.com//7.2.3.1//EN
TZID:Europe/Paris
X-WR-TIMEZONE:Europe/Paris
BEGIN:VEVENT
UID:2329@cafeculturelcitoyen.org
DTSTART;TZID=Europe/Paris:20230701T180000
DTEND;TZID=Europe/Paris:20230831T183000
DTSTAMP:20230720T105442Z
URL:https://cafeculturelcitoyen.org/evenements/vernissage-aurore-berthout-
 demonstration/
SUMMARY:Exposition Aurore Berthout
DESCRIPTION:Aurore est Artiste malvoyante et réalise l'exploit de dessiner
  en relief.\nElle fera une démonstration de sa technique mercredi 12 juil
 let 18h\n\nL'exposition d'Aurore Berthout se déroule du 10 juillet au 31 
 août 2023
ATTACH;FMTTYPE=image/jpeg:https://cafeculturelcitoyen.org/wp-content/uploa
 ds/2023/07/Sans-titre-1.jpg
END:VEVENT
BEGIN:VTIMEZONE
TZID:Europe/Paris
X-LIC-LOCATION:Europe/Paris
BEGIN:DAYLIGHT
DTSTART:20230326T030000
TZOFFSETFROM:+0100
TZOFFSETTO:+0200
TZNAME:CEST
END:DAYLIGHT
END:VTIMEZONE
END:VCALENDAR