BEGIN:VCALENDAR
VERSION:2.0
PRODID:-//wp-events-plugin.com//7.2.3.1//EN
TZID:Europe/Paris
X-WR-TIMEZONE:Europe/Paris
BEGIN:VEVENT
UID:1965@cafeculturelcitoyen.org
DTSTART;TZID=Europe/Paris:20221206T173000
DTEND;TZID=Europe/Paris:20221206T183000
DTSTAMP:20221130T084108Z
URL:https://cafeculturelcitoyen.org/evenements/vernissage-ateliers-foyers-
 de-valbonne/
SUMMARY:Vernissage - Ateliers-Foyers de Valbonne
DESCRIPTION:Cette exposition propose une rencontre avec un univers abstrait
  et figuratif. Il laisse émerger une créativité éclairée de détails 
 flirtant avec un imaginaire enfantin emprunt de joie\, de gravité mais au
 ssi de poésie. » Toutes les œuvres sont le travail des résident-es de
 s ateliers-Foyers de Valbonne\n\n 
ATTACH;FMTTYPE=image/jpeg:https://cafeculturelcitoyen.org/wp-content/uploa
 ds/2022/11/Capture-decran-2022-11-30-093536.png
END:VEVENT
BEGIN:VTIMEZONE
TZID:Europe/Paris
X-LIC-LOCATION:Europe/Paris
BEGIN:STANDARD
DTSTART:20221030T020000
TZOFFSETFROM:+0200
TZOFFSETTO:+0100
TZNAME:CET
END:STANDARD
END:VTIMEZONE
END:VCALENDAR