BEGIN:VCALENDAR
VERSION:2.0
PRODID:-//wp-events-plugin.com//7.2.3.1//EN
TZID:Europe/Paris
X-WR-TIMEZONE:Europe/Paris
BEGIN:VEVENT
UID:2744@cafeculturelcitoyen.org
DTSTART;TZID=Europe/Paris:20240215T200000
DTEND;TZID=Europe/Paris:20240215T220000
DTSTAMP:20240130T155634Z
URL:https://cafeculturelcitoyen.org/evenements/une-histoire-de-la-contreba
 sse-dans-le-jazz/
SUMMARY:Une histoire de la contrebasse DANS LE JAZZ...
DESCRIPTION:...une conférence gesticulée et musicalisée.\n\nInstrument e
 mblématique du Jazz\, la contrebasse est souvent\nréduite à sa fonction
  d’accompagnement. C’est pourtant le pivot de\nnombre de formations. L
 a conférence proposée embarque l’assistance\npour un voyage dans l’h
 istoire du Jazz\, croisant portraits de\nmusicien.n.e.s connu.e.s ou oubli
 é.e.s (Charlie Mingus\, etc)\, séquences\nvidéo et sonores\, ainsi qu
 ’interprétation de quelques morceaux\nsignificatifs de l’évolution d
 e l’instrument\, des années 1920 à la fin\ndu XXème siècle.\nDurée
  : deux heures.\nConception et mise en œuvre : Laurent DUSSUTOUR\, cont
 rebassiste\nde jazz amateur\, chroniqueur jazz pour Ventilo et Citizen Jaz
 z.\n… pianiste et lecteur.trice.s participent à la conférence suivant 
 les\nopportunités !
ATTACH;FMTTYPE=image/jpeg:https://cafeculturelcitoyen.org/wp-content/uploa
 ds/2024/01/Une-Histoire-de-lacontrebasse-dans-le-jazz.jpg
END:VEVENT
BEGIN:VTIMEZONE
TZID:Europe/Paris
X-LIC-LOCATION:Europe/Paris
BEGIN:STANDARD
DTSTART:20231029T020000
TZOFFSETFROM:+0200
TZOFFSETTO:+0100
TZNAME:CET
END:STANDARD
END:VTIMEZONE
END:VCALENDAR