BEGIN:VCALENDAR
VERSION:2.0
PRODID:-//wp-events-plugin.com//7.2.3.1//EN
TZID:Europe/Paris
X-WR-TIMEZONE:Europe/Paris
BEGIN:VEVENT
UID:1772@cafeculturelcitoyen.org
DTSTART;TZID=Europe/Paris:20220623T203000
DTEND;TZID=Europe/Paris:20220623T220000
DTSTAMP:20220610T125247Z
URL:https://cafeculturelcitoyen.org/evenements/theatre-octave-lai-supermar
 ket/
SUMMARY:Théâtre - Octave Lai & Nohad Salem - Supermarket
DESCRIPTION:Octave Lai était venu il y a un mois à peine nous présenter 
 ses "Histoires à dormir debout". Son talent n'ayant pas de repos\, il vie
 nt créer son nouveau spectacle au 3C\, dont voici la trame :\n\nSmoothie 
 et Bubblegum sont ravis de vous accueillir dans leur Supermarket. Entre bo
 nnes affaires ou grosses arnaques\, vous êtes sûrs de trouver votre bonh
 eur. Et comme vous êtes leurs premiers clients depuis des lustres\, ils s
 e feront une joie de vous raconter leurs voyages à travers le monde.\n\nU
 ne écriture originale auquel sont ajoutés des textes de Matei Visniec\, 
 Daniil Harms et Rodrigo Garcia.
ATTACH;FMTTYPE=image/jpeg:https://cafeculturelcitoyen.org/wp-content/uploa
 ds/2022/06/Capture-decran-2022-06-10-091812.jpg
END:VEVENT
BEGIN:VTIMEZONE
TZID:Europe/Paris
X-LIC-LOCATION:Europe/Paris
BEGIN:DAYLIGHT
DTSTART:20220327T030000
TZOFFSETFROM:+0100
TZOFFSETTO:+0200
TZNAME:CEST
END:DAYLIGHT
END:VTIMEZONE
END:VCALENDAR