BEGIN:VCALENDAR
VERSION:2.0
PRODID:-//wp-events-plugin.com//7.2.3.1//EN
TZID:Europe/Paris
X-WR-TIMEZONE:Europe/Paris
BEGIN:VEVENT
UID:1738@cafeculturelcitoyen.org
DTSTART;TZID=Europe/Paris:20220524T210000
DTEND;TZID=Europe/Paris:20220524T234500
DTSTAMP:20220513T090024Z
URL:https://cafeculturelcitoyen.org/evenements/theatre-octave-lai-histoire
 s-a-dormir-debout/
SUMMARY:Théâtre Octave Lai - Histoires à dormir debout
DESCRIPTION:\n\n\n\nPour son premier spectacle\, intitulé "Histoire à dor
 mir debout" Octave Lai a adapté des textes de Daniil Harms et Matei Visni
 ec. Il mêle théâtre danse masque et chant. Son projet : rendre compte 
 d’une certaine absurdité de la vie transformant des situations de crise
  amusantes et laissant tout de même des scrupules dans la tête du specta
 teur qui ne cessera de se questionner sur le véritable sens des textes.\n
 \nCrédit photo : Christophe Noisette\n\n\n\n
ATTACH;FMTTYPE=image/jpeg:https://cafeculturelcitoyen.org/wp-content/uploa
 ds/2022/05/Capture-decran-2022-05-11-125600.jpg
END:VEVENT
BEGIN:VTIMEZONE
TZID:Europe/Paris
X-LIC-LOCATION:Europe/Paris
BEGIN:DAYLIGHT
DTSTART:20220327T030000
TZOFFSETFROM:+0100
TZOFFSETTO:+0200
TZNAME:CEST
END:DAYLIGHT
END:VTIMEZONE
END:VCALENDAR