BEGIN:VCALENDAR
VERSION:2.0
PRODID:-//wp-events-plugin.com//7.2.3.1//EN
TZID:Europe/Paris
X-WR-TIMEZONE:Europe/Paris
BEGIN:VEVENT
UID:1809@cafeculturelcitoyen.org
DTSTART;TZID=Europe/Paris:20220826T203000
DTEND;TZID=Europe/Paris:20220826T220000
DTSTAMP:20220813T152845Z
URL:https://cafeculturelcitoyen.org/evenements/theatre-le-balto-ou-livress
 e-des-libellules-sarah-ulysse/
SUMMARY:Théâtre - LE BALTO ou l'ivresse des libellules. Sarah Ulysse
DESCRIPTION:Ce spectacle est un huis clos poétique dans l'univers des bist
 rots populaires.\n\n\nA travers des témoignages\, poèmes\, paroles glan
 ées au fil des jours\, se mêlent portraits et destins déboussolés d'o
 ù émerge une beauté abrupte\, parfois tragique\, parfois irrésistiblem
 ent comique.\n\n\nToute une humanité\, cocasse\, vivante\, brisée\, qui 
 crie malgré et contre tout\, sa force\, sa joie\, son humour et sa rage d
 e vivre.
ATTACH;FMTTYPE=image/jpeg:https://cafeculturelcitoyen.org/wp-content/uploa
 ds/2022/08/Capture-decran-2022-08-13-172634.png
END:VEVENT
BEGIN:VTIMEZONE
TZID:Europe/Paris
X-LIC-LOCATION:Europe/Paris
BEGIN:DAYLIGHT
DTSTART:20220327T030000
TZOFFSETFROM:+0100
TZOFFSETTO:+0200
TZNAME:CEST
END:DAYLIGHT
END:VTIMEZONE
END:VCALENDAR