BEGIN:VCALENDAR
VERSION:2.0
PRODID:-//wp-events-plugin.com//7.2.3.1//EN
TZID:Europe/Paris
X-WR-TIMEZONE:Europe/Paris
BEGIN:VEVENT
UID:2365@cafeculturelcitoyen.org
DTSTART;TZID=Europe/Paris:20231028T153000
DTEND;TZID=Europe/Paris:20231028T163000
DTSTAMP:20230913T154751Z
URL:https://cafeculturelcitoyen.org/evenements/theatre-cabosse-spectacle-p
 our-enfants/
SUMMARY:Théâtre Cabosse - Spectacle pour enfants
DESCRIPTION:Acrobaties bancales et personnages burlesques réunis pour le m
 eilleur et pour le rire autour d’un mini cabaret : Cabaret Miracoli. Un 
 numéro d’acrobatie magnifique d’une chenille du nom de BlueBlue\, qui
  se joue de tous les risques sur une bascule Coréenne. Un Singe magicien 
 du Bonneteau du nom de Snarky. Et un Monsieur Loyal à l’allure Charisma
 tique et aux dons multiples.
ATTACH;FMTTYPE=image/jpeg:https://cafeculturelcitoyen.org/wp-content/uploa
 ds/2023/09/Capture-decran-2023-09-13-174644.jpg
END:VEVENT
BEGIN:VTIMEZONE
TZID:Europe/Paris
X-LIC-LOCATION:Europe/Paris
BEGIN:DAYLIGHT
DTSTART:20230326T030000
TZOFFSETFROM:+0100
TZOFFSETTO:+0200
TZNAME:CEST
END:DAYLIGHT
END:VTIMEZONE
END:VCALENDAR