BEGIN:VCALENDAR
VERSION:2.0
PRODID:-//wp-events-plugin.com//7.2.3.1//EN
TZID:Europe/Paris
X-WR-TIMEZONE:Europe/Paris
BEGIN:VEVENT
UID:2384@cafeculturelcitoyen.org
DTSTART;TZID=Europe/Paris:20231026T183000
DTEND;TZID=Europe/Paris:20231026T223000
DTSTAMP:20231025T080934Z
URL:https://cafeculturelcitoyen.org/evenements/tchitchoubal-soiree-douvert
 ure/
SUMMARY:Tchitchoubal : soirée d'ouverture
DESCRIPTION:Le 3C accueille la soirée d'ouverture du Tchitchoubal !\n\nAu 
 programme :\n\n 	18h30 - 19h45 : apéro - buffet\n 	20h - 21h20 : confére
 nce gesticulée de Christophe APPRILL\n\n"Vous souvenez vous de votre prem
 ier baiser lors d’un slow à moitié raté ? Des râteaux ? Faire tapiss
 erie en attendant l’élu(e) qui promettait de faire battre votre petit c
 œur  ? Les souvenirs de bal\, ça marque un peu plus que les spectacles 
 de danse contemporaine\, non ? Je peux dire que la découverte de la rumba
  congolaise m’a marqué beaucoup plus durablement que celle de Mathilde 
 Monnier (l’une des grandes dames de la création chorégraphique)… Mai
 s alors\, pourquoi autant de sacralisation de la danse des artistes ? C’
 est simple\, l’une est pleine de concepts\, et l’autre est forte de la
  circulation des désirs… Au bal\, personne ne sort en disant : « Je n
 ’ai rien compris ». Mais tiens tiens\, que s’est-il donc passé dans 
 les années 80 pour qu’on en arrive\, même dans la danse\, à regarder 
 de haut les danses d’en bas… N’est-ce pas justement le moment où le
  néolibéralisme s’apprêtait à devenir la norme de nos vies ?\nDanseu
 r de bal\, j’ai eu la drôle d’idée\, en tant que sociologue\, de m
 ’intéresser aux bals des gens de peu. Vous imaginez le ridicule de la s
 ituation lorsque dans une soirée mondaine\, on me demande\, « Ah\, vous 
 êtes danseur ? » « Chercheur sur le bal » ? Difficile de faire carriè
 re avec un truc pareil\, à moins de devenir conférencier gesticulant peu
 t être ?"\n\n\n 	21h20 - 22h30 :  temps d'échange autour de la danse et
  de la conférence gesticulée\n
ATTACH;FMTTYPE=image/jpeg:https://cafeculturelcitoyen.org/wp-content/uploa
 ds/2023/09/P1130441.jpg
END:VEVENT
BEGIN:VTIMEZONE
TZID:Europe/Paris
X-LIC-LOCATION:Europe/Paris
BEGIN:DAYLIGHT
DTSTART:20230326T030000
TZOFFSETFROM:+0100
TZOFFSETTO:+0200
TZNAME:CEST
END:DAYLIGHT
END:VTIMEZONE
END:VCALENDAR