BEGIN:VCALENDAR
VERSION:2.0
PRODID:-//wp-events-plugin.com//7.2.3.1//EN
TZID:Europe/Paris
X-WR-TIMEZONE:Europe/Paris
BEGIN:VEVENT
UID:1847@cafeculturelcitoyen.org
DTSTART;TZID=Europe/Paris:20220923T203000
DTEND;TZID=Europe/Paris:20220923T220000
DTSTAMP:20220920T124451Z
URL:https://cafeculturelcitoyen.org/evenements/spectacle-tarokonte-kabaret
 -par-alchimat/
SUMMARY:Spectacle - Tarokonte Kabaret\, par AlchiMat
DESCRIPTION:De et par AlchiMat (aka Mathieu Lelarge)\n\nMesdames\, Messieur
 s\, chers enfants!\nCe soir 5 d'entre vous vivront avec le public une exp
 érience unique: la création de 4 contes personnels et d'une lecture en s
 cène.\n\nUn tarokonte c'est quoi? Comment ça marche?\n"Tarokonte" est la
  contraction de "Tarot" et de "conte"\, car ce jeu de cartes est aussi vec
 teur d'histoires\, vecteur de nos légendes.\nLe principe:\nMon Kabaret co
 mmence par un tirage "au sort" de 4 d'entre vous.\nPuis\, tour à tour\, v
 ous viendrez sur scène tirer quelques cartes qui donneront les personnage
 s\, le thème et l'époque de la narration.\nÀ partir de là\, sous vos y
 eux le conte va vous être créé\, raconté et joué par Alchimat -et par
 fois même\, avec vous-.\nUn voyage unique qui ne se produira que ce soir 
 avec ces histoires qui ne seront là que pour vous\, et avec lesquelles\, 
 vous seuls\, repartirez!
ATTACH;FMTTYPE=image/jpeg:https://cafeculturelcitoyen.org/wp-content/uploa
 ds/2022/09/Capture-decran-2022-09-20-144405.jpg
END:VEVENT
BEGIN:VTIMEZONE
TZID:Europe/Paris
X-LIC-LOCATION:Europe/Paris
BEGIN:DAYLIGHT
DTSTART:20220327T030000
TZOFFSETFROM:+0100
TZOFFSETTO:+0200
TZNAME:CEST
END:DAYLIGHT
END:VTIMEZONE
END:VCALENDAR