BEGIN:VCALENDAR
VERSION:2.0
PRODID:-//wp-events-plugin.com//7.2.3.1//EN
TZID:Europe/Paris
X-WR-TIMEZONE:Europe/Paris
BEGIN:VEVENT
UID:2281@cafeculturelcitoyen.org
DTSTART;TZID=Europe/Paris:20230531T200000
DTEND;TZID=Europe/Paris:20230531T220000
DTSTAMP:20230429T133705Z
URL:https://cafeculturelcitoyen.org/evenements/spectacle-shirazade-cyclono
 mades-sur-les-routes-de-perse/
SUMMARY:Spectacle : Shirazade\, Cyclonomades sur les routes de Perse
DESCRIPTION:\n\n\n\n\n&nbsp\;\n\n“ Et si on partait à vélo jusqu’en I
 ran ?”\n\nLes rêves commencent souvent par une phrase lancée dans l’
 air du temps !\n\nCe concert/ spectacle interactif témoigne d’une anné
 e exceptionnelle passée sur nos deux vélos entre les îles\, les chemins
  de terre\, les montées interminables et les descentes de fée sur des ro
 utes inconnues à la rencontre de la beauté des gens !\n\nDurant notre p
 ériple fou et palpitant\, la musique fut notre fil rouge…\n\nAccompagn
 é.es d’un accordéon\, d’une guitare et d’un duduk sur nos portes b
 agages (oui c’est lourd !) nos voix ont voyagé de la Méditerranée au 
 Caucase !\n\nCe qu’il reste de plus précieux de tout ce parcours ? \n\
 nNous revenons gorgé.es de cette pensée éclatante : l’humanité nou
 s a montré son plus beau visage !\n\nNous revenons rempli.es d'espoir et
  ne faisons que confirmer le message des voyageur.euses avant nous : c’e
 st là où il y a le moins qu’on donne le plus\, l’abondance se cultiv
 e\, l’hospitalité aussi !\n\nEmbarquez avec nous pour un vent d’inspi
 ration crépitant… \n\nSigné : Zingarella &amp\; Fegari ( c’est le 
 nom de nos vélos pardi! Nous c'est Océane &amp\; Baloo)\n\n *Pour les c
 urieux.ses qui ne sauraient attendre\, vous pouvez visionner toutes les vi
 déos du voyage des différents endroits où nous sommes passés ici :\n\n
 https://www.youtube.com/channel/UCrqTioZTTMIkL0ClRQ-N8oA\n\n\n\n\n
ATTACH;FMTTYPE=image/jpeg:https://cafeculturelcitoyen.org/wp-content/uploa
 ds/2023/04/pochette-album.jpg
END:VEVENT
BEGIN:VTIMEZONE
TZID:Europe/Paris
X-LIC-LOCATION:Europe/Paris
BEGIN:DAYLIGHT
DTSTART:20230326T030000
TZOFFSETFROM:+0100
TZOFFSETTO:+0200
TZNAME:CEST
END:DAYLIGHT
END:VTIMEZONE
END:VCALENDAR