BEGIN:VCALENDAR
VERSION:2.0
PRODID:-//wp-events-plugin.com//7.2.3.1//EN
TZID:Europe/Paris
X-WR-TIMEZONE:Europe/Paris
BEGIN:VEVENT
UID:2574@cafeculturelcitoyen.org
DTSTART;TZID=Europe/Paris:20231220T153000
DTEND;TZID=Europe/Paris:20231220T163000
DTSTAMP:20231113T130825Z
URL:https://cafeculturelcitoyen.org/evenements/spectacle-parole-de-clown/
SUMMARY:Spectacle Parole de Clown
DESCRIPTION:« Un clown c’est quoi ? c’est qui ? ça vit où ? ça 
 mange ? pourquoi ça a un nez rouge ? et un\ndrôle de costume ? et pour
 quoi ça fait toujours des bêtises ?»\n\nD’Auguste\, acrobate de cirqu
 e qui\, un soir\, rata le cheval\, jusqu’à la robe retrouvée de Charli
 e Rivel\, clown-chanteuse\, en passant par Grock\, Sol ou Chocolat…\n\nM
 ademoiselle Gazoline Eponyme évoque\, en action et clowneries en tout gen
 re\, les délirants personnages qui ont bercé son enfance. Une histoire d
 e clown sur des histoires de clowns.\n\nDe et par Gisèle Martinez\n\nA pa
 rtir de 4 ans
END:VEVENT
BEGIN:VTIMEZONE
TZID:Europe/Paris
X-LIC-LOCATION:Europe/Paris
BEGIN:STANDARD
DTSTART:20231029T020000
TZOFFSETFROM:+0200
TZOFFSETTO:+0100
TZNAME:CET
END:STANDARD
END:VTIMEZONE
END:VCALENDAR