BEGIN:VCALENDAR
VERSION:2.0
PRODID:-//wp-events-plugin.com//7.2.3.1//EN
TZID:Europe/Paris
X-WR-TIMEZONE:Europe/Paris
BEGIN:VEVENT
UID:1944@cafeculturelcitoyen.org
DTSTART;TZID=Europe/Paris:20221125T200000
DTEND;TZID=Europe/Paris:20221125T220000
DTSTAMP:20221028T141831Z
URL:https://cafeculturelcitoyen.org/evenements/spectacle-musical-tete-de-l
 inotte-et-coeur-dartichaut/
SUMMARY:Spectacle - Tête de linotte et cœur d'artichaut
DESCRIPTION:Eté 2020\, la guitare d'Alexia Greco rencontre le stylo de Lio
 nel Mazari.\nPrintemps 2022\, leurs paroles et leurs chants se croisent et
  se mélangent\, à l'occasion\nde l'enregistrement d'un CD de chansons po
 étiques : "Tête de Linotte et Cœur d'Artichaut".\nCe CD devient bientô
 t un spectacle et nos deux aventuriers du rêve éveillé empruntent pour\
 nnous rendre visite les chemins buissonniers de la poésie chantée et rac
 ontée. Tels des\n« Visiteurs du Soir » modernes\, ils viennent nous ré
 véler\, comme par jeu et tout en\nconfidences\, leurs histoires improbabl
 es\, entre humour décalé et délicatesse musicale.\nUn spectacle d’une
  durée d’1 heure\, qui nous accompagne en toute légèreté vers une nu
 it\némaillée de doux rêves étranges.
ATTACH;FMTTYPE=image/jpeg:https://cafeculturelcitoyen.org/wp-content/uploa
 ds/2022/10/Capture-decran-2022-10-28-160501.png
END:VEVENT
BEGIN:VTIMEZONE
TZID:Europe/Paris
X-LIC-LOCATION:Europe/Paris
BEGIN:STANDARD
DTSTART:20221030T020000
TZOFFSETFROM:+0200
TZOFFSETTO:+0100
TZNAME:CET
END:STANDARD
END:VTIMEZONE
END:VCALENDAR