BEGIN:VCALENDAR
VERSION:2.0
PRODID:-//wp-events-plugin.com//7.2.3.1//EN
TZID:Europe/Paris
X-WR-TIMEZONE:Europe/Paris
BEGIN:VEVENT
UID:1746@cafeculturelcitoyen.org
DTSTART;TZID=Europe/Paris:20220608T200000
DTEND;TZID=Europe/Paris:20220608T223000
DTSTAMP:20220519T075621Z
URL:https://cafeculturelcitoyen.org/evenements/spectacle-le-bar-des-ames-p
 erdues/
SUMMARY:Spectacle - Le bar des âmes perdues
DESCRIPTION:spectacle chanté\ncréé et interprété par Angèle Haury\, I
 nès Tripier et Léa Guérin\n\nTrois femmes se retrouvent dans un bar tar
 d le soir. Ensemble\, elles tentent de recoller les morceaux d'existences.
 \nLeur existence d'abord\, et se faisant\, celles de beaucoup d'autres.\nP
 our elles\, chanter devient un vecteur de force. Un langage incomparable q
 ui les relie.A travers l'histoire de ces trois femmes\, nous redécouvrons
  la poésie et l'audace de plusieurs générations de chanteuses (Jeanne M
 oreau\, Edith Piaf\, Juliette\, Dalida\, Brigitte...). Un spectacle réuni
 ssant trois jeunes interprètes aux voix à la fois distinctes et complém
 entaires.\nproduction : collectif Saxifrage
ATTACH;FMTTYPE=image/jpeg:https://cafeculturelcitoyen.org/wp-content/uploa
 ds/2022/05/Capture-decran-2022-05-19-095338.jpg
END:VEVENT
BEGIN:VTIMEZONE
TZID:Europe/Paris
X-LIC-LOCATION:Europe/Paris
BEGIN:DAYLIGHT
DTSTART:20220327T030000
TZOFFSETFROM:+0100
TZOFFSETTO:+0200
TZNAME:CEST
END:DAYLIGHT
END:VTIMEZONE
END:VCALENDAR