BEGIN:VCALENDAR
VERSION:2.0
PRODID:-//wp-events-plugin.com//7.2.3.1//EN
TZID:Europe/Paris
X-WR-TIMEZONE:Europe/Paris
BEGIN:VEVENT
UID:1827@cafeculturelcitoyen.org
DTSTART;TZID=Europe/Paris:20220908T203000
DTEND;TZID=Europe/Paris:20220908T223000
DTSTAMP:20220831T154526Z
URL:https://cafeculturelcitoyen.org/evenements/spectacle-la-science-tu-lai
 mes-ou-tu-la-quittes-alban-nenon/
SUMMARY:Spectacle - La science tu l'aimes ou tu la quittes ! Alban Nénon
DESCRIPTION:\n\n\nSciences\, techniques et société capitaliste : un confl
 it de loyauté ?\n\n\n\n\nAlban est médiateur scientifique. Il aime trans
 mettre sa passion de la compréhension de la Nature. Mais cela engendre un
  coût\, humain et matériel. Mais cela donne aussi un gros coup au moral\
 , un coup éthique et psychologique\, dans lequel le système capitalo-ind
 ustriel nous enferme : le conflit de loyauté.\n\nDans cette conférence\
 , Alban gesticule la démonstration que ce conflit de loyauté contraint 
 les médiateurices scientifiques tout comme les chercheureuses à être ne
 utre. Or\, en prônant cette neutralité des sciences et des techniques 
 — neutralité renforcée par la sacralisation de l’industrie depuis la
  moitié du XIXe siècle — les faiseureures et parleureuses de sciences 
 et techniques se déresponsabilisent face aux problématiques socio-plan
 étaires que ce système capitalo-industriel génère\, dont le dére
 ̀glement climatique et ses crises inhumanitaires.\n\nCe système qui va 
 jusqu’à nous donner l’illusion que c’est lui qui nous procure notr
 e confort matériel\, notre bien être. Pis\, ce système qui ose pré
 tendre détenir les solutions mais ne fait que repousser ces limites. Pis
  encore\, ce système qui détourne notre esprit critique de sa responsa
 bilité vers notre propre responsabilité individuelle à coup de conce
 pts tels que l’écocitoyenneté\, la dématérialisation ou la compens
 ation carbone.\n\nHeureusement l’écologie politique renaît et c’est 
 à chacun de nous de nous en emparer…\n\n&nbsp\;\n\n\n\n\n\n\n
ATTACH;FMTTYPE=image/jpeg:https://cafeculturelcitoyen.org/wp-content/uploa
 ds/2022/08/Capture-decran-2022-08-31-173937.jpg
END:VEVENT
BEGIN:VTIMEZONE
TZID:Europe/Paris
X-LIC-LOCATION:Europe/Paris
BEGIN:DAYLIGHT
DTSTART:20220327T030000
TZOFFSETFROM:+0100
TZOFFSETTO:+0200
TZNAME:CEST
END:DAYLIGHT
END:VTIMEZONE
END:VCALENDAR