BEGIN:VCALENDAR
VERSION:2.0
PRODID:-//wp-events-plugin.com//7.2.3.1//EN
TZID:Europe/Paris
X-WR-TIMEZONE:Europe/Paris
BEGIN:VEVENT
UID:1991@cafeculturelcitoyen.org
DTSTART;TZID=Europe/Paris:20230208T203000
DTEND;TZID=Europe/Paris:20230208T223000
DTSTAMP:20230130T155816Z
URL:https://cafeculturelcitoyen.org/evenements/spectacle-david-rougerie-po
 ete-tout-terrain-ptt/
SUMMARY:Spectacle - David Rougerie Poète Tout Terrain (PTT)
DESCRIPTION:Cabaret poétique. Jazz verbal. P.T.T. : Poète Tout Terrain.\
 nDu sketch de situation jusqu'au poème\, calembour en action\, en passant
  par la chansonnette a capella.\nAu partage ! Nous chanterons ensemble au 
 final\, dans la grande pagaille du monde...\n L'Impartial :\nL’auteur\,
  David Rougerie\, a conquis un auditoire de plus en plus fidèle.   Cabar
 et poétique\, spectacle parlé et chanté\, sucré-salé\, doux-amer\, fa
 it d’humour et de fantaisie\, prétexte à nous questionner sur l’inju
 stice\, la différence\, à nous inviter à réagir\, mais aussi à nous p
 arler d’amour\, de littérature\, d’art et d’espoir. \nUne Grenouill
 e à Paris\, quotidien culturel :\n« David Rougerie tresse les mots magi
 ques à la vitesse d'un coureur de formule 1 spécialisé dans le tissage 
 : une perle de mélancolie par-ci\, deux pompons de drôlerie par-là\, qu
 elques paillettes de jazz\, et vous voilà avec autour du cou un collier-s
 pectacle des plus précieux. TRES RECOMMANDÉ !! »\nLa Gazette du Forez\,
  journal :\n" David Rougerie est un artiste complet qui joue avec tout. 
 Les mots par exemple : il jongle avec eux avec une finesse et une subtilit
 é qui lui appartiennent. Mais ce n'est pas tout. Il sait aussi utiliser s
 on corps comme d'un instrument. Le public ne se doutait pas qu'il allait p
 articiper au spectacle : en reprenant une chanson\, ou encore donnant la r
 éplique au comédien\, et même se voyant confier un rôle. Pendant plus 
 d'une heure\, David Rougerie a transporté le public. Un univers de sketch
 es et de blagues\, de poésies et de chants\, plein de fantaisie et d'humo
 ur\, d'amour et d'espoir. Il laisse derrière lui un message de paix et de
  tolérance. "
ATTACH;FMTTYPE=image/jpeg:https://cafeculturelcitoyen.org/wp-content/uploa
 ds/2022/12/Capture-decran-2022-12-15-095140.png
END:VEVENT
BEGIN:VTIMEZONE
TZID:Europe/Paris
X-LIC-LOCATION:Europe/Paris
BEGIN:STANDARD
DTSTART:20221030T020000
TZOFFSETFROM:+0200
TZOFFSETTO:+0100
TZNAME:CET
END:STANDARD
END:VTIMEZONE
END:VCALENDAR