BEGIN:VCALENDAR
VERSION:2.0
PRODID:-//wp-events-plugin.com//7.2.3.1//EN
TZID:Europe/Paris
X-WR-TIMEZONE:Europe/Paris
BEGIN:VEVENT
UID:1945@cafeculturelcitoyen.org
DTSTART;TZID=Europe/Paris:20221126T200000
DTEND;TZID=Europe/Paris:20221126T220000
DTSTAMP:20221028T141452Z
URL:https://cafeculturelcitoyen.org/evenements/spectacle-comme-a-la-maison
 -de-et-avec-tony-di-stasio/
SUMMARY:Spectacle - Comme à la maison\, de et avec Tony di Stasio
DESCRIPTION:On peut aimer deux pays à la fois\, celui dans lequel on a gra
 ndi et celui de nos racines.\n\nDans l'un comme dans l'autre on trouve de 
 quoi construire\, aimer et surtout rire.\n\nAu travers de personnages plus
  déjantés les uns que les autres\, Tony pose un regard plein de tendress
 e ert d'autodérision sur l'enfance\, la famille\, la terre d'origine et c
 elle d'accueil.\n\nUn voyage dans un univers ensoleillé\, parsemé d'odeu
 rs de thym\, de laurier et de méditerranée. Une chronique de bonheur à 
 déguster comme une tasse de café.
ATTACH;FMTTYPE=image/jpeg:https://cafeculturelcitoyen.org/wp-content/uploa
 ds/2022/10/Capture-decran-2022-10-28-160929.png
END:VEVENT
BEGIN:VTIMEZONE
TZID:Europe/Paris
X-LIC-LOCATION:Europe/Paris
BEGIN:STANDARD
DTSTART:20221030T020000
TZOFFSETFROM:+0200
TZOFFSETTO:+0100
TZNAME:CET
END:STANDARD
END:VTIMEZONE
END:VCALENDAR