BEGIN:VCALENDAR
VERSION:2.0
PRODID:-//wp-events-plugin.com//7.2.3.1//EN
TZID:Europe/Paris
X-WR-TIMEZONE:Europe/Paris
BEGIN:VEVENT
UID:2138@cafeculturelcitoyen.org
DTSTART;TZID=Europe/Paris:20230322T200000
DTEND;TZID=Europe/Paris:20230322T223000
DTSTAMP:20230227T152809Z
URL:https://cafeculturelcitoyen.org/evenements/spectacle-cent-voix-par-la-
 compagnie-parles-en-corps/
SUMMARY:Spectacle Cent voix\, par la Compagnie "Parles en Corps"
DESCRIPTION:Spectacle Cent voix\nCie Parles en Corps\n\nRésumé :\nL'histo
 ire qu'il vont nous conter est une histoire d'amour ...\nMais comment parl
 er d'amour ? Elle en parle silencieusement\, au fil des gestes\, en\ndansa
 nt les mots à travers la langue des signes\, lui l'interprète en musique
 \, au rythme\nde belles chansons.\n\nDe ce duo atypique né une invitation
  au voyage au delà des frontières\, d'une langue à\nl'autre\, du monde 
 de la surdité à celui de la musique\, du geste à la voix.\nL'amour n’
 a pas de frontières parait il ?\n\nEntremêlés de poèmes et de textes c
 ontemporains\, les mots de ces chansons viennent\nrésonner autrement pour
  sillonner ensemble vers le langage universel des émotions.\nNous assisto
 ns alors à une histoire qui se dessine silencieusement au fil des gestes 
 et\ndes chants.
ATTACH;FMTTYPE=image/jpeg:https://cafeculturelcitoyen.org/wp-content/uploa
 ds/2023/02/SORTIE-DE-RESIDENCE.jpeg
END:VEVENT
BEGIN:VTIMEZONE
TZID:Europe/Paris
X-LIC-LOCATION:Europe/Paris
BEGIN:STANDARD
DTSTART:20221030T020000
TZOFFSETFROM:+0200
TZOFFSETTO:+0100
TZNAME:CET
END:STANDARD
END:VTIMEZONE
END:VCALENDAR