BEGIN:VCALENDAR
VERSION:2.0
PRODID:-//wp-events-plugin.com//7.2.3.1//EN
TZID:Europe/Paris
X-WR-TIMEZONE:Europe/Paris
BEGIN:VEVENT
UID:1733@cafeculturelcitoyen.org
DTSTART;TZID=Europe/Paris:20220525T210000
DTEND;TZID=Europe/Paris:20220525T233000
DTSTAMP:20220513T142735Z
URL:https://cafeculturelcitoyen.org/evenements/spectacle-benjamin-mayet/
SUMMARY:Spectacle - Benjamin Mayet\, le Dehors de toute chose
DESCRIPTION: Le dehors de toute chose  - 45 minutes\n\n\n\n\n\nBenjamin 
 Mayet\n\nTexte : Alain Damasio\, architecturé par Benjamin Mayet - LA VOL
 TE 2016\nDébat : 1 heure\n\nLe « dehors » est une poche de liberté int
 érieure à chacun de nous \; un vaste champ de possibles obstrué par d
 es siècles de conditionnements. Se parlant autant à elle-même qu’aux
  gens qui l’entourent\, une figure mêlée à la foule débusque\, par 
 tâtonnements\, ces barrières qui nous séparent de notre véritable exis
 tence d’humain libre.\nSon but ? Tenter sous nos yeux\, dans une quête 
 aussi intime qu’infinie\, « d’inventer ce que vivre peut être ».Tea
 ser : https://vimeo.com/127016273\nMicro-trottoir : https://vimeo.com/2194
 91487\n\n\n\n\nRésumé des tournées précédentes :https://vimeo.com/220
 439905
ATTACH;FMTTYPE=image/jpeg:https://cafeculturelcitoyen.org/wp-content/uploa
 ds/2022/05/VISUEL_22.jpg
END:VEVENT
BEGIN:VTIMEZONE
TZID:Europe/Paris
X-LIC-LOCATION:Europe/Paris
BEGIN:DAYLIGHT
DTSTART:20220327T030000
TZOFFSETFROM:+0100
TZOFFSETTO:+0200
TZNAME:CEST
END:DAYLIGHT
END:VTIMEZONE
END:VCALENDAR