BEGIN:VCALENDAR
VERSION:2.0
PRODID:-//wp-events-plugin.com//7.2.3.1//EN
TZID:Europe/Paris
X-WR-TIMEZONE:Europe/Paris
BEGIN:VEVENT
UID:1681@cafeculturelcitoyen.org
DTSTART;TZID=Europe/Paris:20220223T200000
DTEND;TZID=Europe/Paris:20220223T200000
DTSTAMP:20220207T155233Z
URL:https://cafeculturelcitoyen.org/evenements/sourciere-un-conte-ecologiq
 ue/
SUMMARY:"Sourcière" un conte écologique
DESCRIPTION:Le nouveau spectacle de Philemon\, accompagné de Hélène Jave
 laud au violon\n\n\n\n\n\n\n\n\n\n\n\n\n\n\n\n\n\n\n\n\n\n\n\n\n\n\n\n\n\n
 \nSOURCIERE \n\n▬▬▬▬▬ Le spectacle  ▬▬▬▬▬La sécheres
 se s'abat sur la Terre\, Sècheresse de la Terre\, Sècheresse de l'âme. 
 \n\nUne seule source existe encore\, celle de Leon\, maintenant le roi Leo
 n. C'est la fin. Heureusement\, la prophétie dit qu'une petite fille\, so
 urcière... \nConte lyrique\, burlesque et écologique sur un monde loin d
 e nous\, loin d'ailleurs et pourtant si proche. Le violon d'Hélène élè
 ve ce voyage en terre lointaine.\n\n\nUn conte où la femme est porteuse d
 'avenir\, d'espérance\,  Sourcière.???ee: ???? \, participation libre e
 t consciente. Oui aux spectacles vivants\n\n\n▬▬▬▬▬ Le conteur  
 ▬▬▬▬▬Un conteur des couleurs du monde\, une voix pour une humani
 té apaisée et respectueuse.Philémon est conteur depuis 24 ans et nommé
  « conteur citoyen de l’Unesco » en 2016\, pour ses racontages en quar
 tiers nord de Marseille\, et la lutte contre les discriminations.\n\n\n\n\
 n\n\n\n\n\n\n\n\nHélène Javelaud\, violoniste\, Hélène s’est formée
  au conservatoire de Briançon et de Grenoble (Certificat de Fin d’Etude
 s Musicales\, 2008). Elle aime les histoires\, elle plonge dedans.\n\n\nUn
 e production de la compagnie Les Balladons\n\n\n\n\n\n\n\n\n\n\n\n\n\n\n\n
 \n\n\n\n\n\n\n\n\n\n\n\n\n\n\n\n\n\n
ATTACH;FMTTYPE=image/jpeg:https://cafeculturelcitoyen.org/wp-content/uploa
 ds/2022/02/Sans-titre68.jpg
END:VEVENT
BEGIN:VTIMEZONE
TZID:Europe/Paris
X-LIC-LOCATION:Europe/Paris
BEGIN:STANDARD
DTSTART:20211031T020000
TZOFFSETFROM:+0200
TZOFFSETTO:+0100
TZNAME:CET
END:STANDARD
END:VTIMEZONE
END:VCALENDAR