BEGIN:VCALENDAR
VERSION:2.0
PRODID:-//wp-events-plugin.com//7.2.3.1//EN
TZID:Europe/Paris
X-WR-TIMEZONE:Europe/Paris
BEGIN:VEVENT
UID:1917@cafeculturelcitoyen.org
DTSTART;TZID=Europe/Paris:20221025T193000
DTEND;TZID=Europe/Paris:20221025T223000
DTSTAMP:20221001T064953Z
URL:https://cafeculturelcitoyen.org/evenements/soiree-repas-plat-de-resist
 ance-4/
SUMMARY:Soirée Repas - Plat de résistance
DESCRIPTION:Pour créer une ambiance de partage\, de rencontre et de discus
 sion\, les bénévoles du 3C mettent la main à la pâte et préparent le
  plat principal. Pour construire la résistance solidaire\, on commence 
 par se retrouver ... Le repas sera composé pour l’essentiel d’ingréd
 ients bio végétariens (voire vegan !) et produits localement.\n\nLe re
 pas est à prix libre ou dessert. Cela signifie que vous pouvez participer
  à l’événement en donnant une petite contribution en euros OU en ame
 nant un dessert.
ATTACH;FMTTYPE=image/jpeg:https://cafeculturelcitoyen.org/wp-content/uploa
 ds/2017/07/platderes.png
END:VEVENT
BEGIN:VTIMEZONE
TZID:Europe/Paris
X-LIC-LOCATION:Europe/Paris
BEGIN:DAYLIGHT
DTSTART:20220327T030000
TZOFFSETFROM:+0100
TZOFFSETTO:+0200
TZNAME:CEST
END:DAYLIGHT
END:VTIMEZONE
END:VCALENDAR