BEGIN:VCALENDAR
VERSION:2.0
PRODID:-//wp-events-plugin.com//7.2.3.1//EN
TZID:Europe/Paris
X-WR-TIMEZONE:Europe/Paris
BEGIN:VEVENT
UID:2010@cafeculturelcitoyen.org
DTSTART;TZID=Europe/Paris:20230131T200000
DTEND;TZID=Europe/Paris:20230131T220000
DTSTAMP:20230104T113633Z
URL:https://cafeculturelcitoyen.org/evenements/soiree-repas-le-plat-de-res
 istance-29/
SUMMARY:Soirée repas « le plat de résistance »
DESCRIPTION:Le plat de résistance est une soirée repas.\nPour créer 
 une ambiance de partage\, de rencontre et de discussion\, les bénévoles 
 du 3C mettent la main à la pâte et préparent le plat principal. Pour 
 construire la résistance solidaire\, on commence par se retrouver ... Le 
 repas sera composé pour l’essentiel d’ingrédients bio végétariens
  (voire vegan !) et produits localement.\nCe soir\, ce sera Gaspacho de t
 omate\, concombre et poivron. Avec bien sûr\, basilic ail et huile d'Oliv
 e. Et la possibilité d'ajouter des graines germées et des oeufs durs ém
 iettés.\nLe repas est à prix libre ou dessert. Cela signifie que vous po
 uvez participer à l’événement en donnant une petite contribution en e
 uros OU en amenant un dessert.\nL’événement se déroule chaque dernie
 r mardi du mois.
ATTACH;FMTTYPE=image/jpeg:https://cafeculturelcitoyen.org/wp-content/uploa
 ds/2017/07/platderes.png
END:VEVENT
BEGIN:VTIMEZONE
TZID:Europe/Paris
X-LIC-LOCATION:Europe/Paris
BEGIN:STANDARD
DTSTART:20221030T020000
TZOFFSETFROM:+0200
TZOFFSETTO:+0100
TZNAME:CET
END:STANDARD
END:VTIMEZONE
END:VCALENDAR