BEGIN:VCALENDAR
VERSION:2.0
PRODID:-//wp-events-plugin.com//7.2.3.1//EN
TZID:Europe/Paris
X-WR-TIMEZONE:Europe/Paris
BEGIN:VEVENT
UID:2032@cafeculturelcitoyen.org
DTSTART;TZID=Europe/Paris:20230215T200000
DTEND;TZID=Europe/Paris:20230215T220000
DTSTAMP:20230129T185247Z
URL:https://cafeculturelcitoyen.org/evenements/soiree-musique-et-poesie-au
 x-femmes-diran/
SUMMARY:Soirée musique et poésie - Aux femmes d'Iran
DESCRIPTION:En hommage aux femmes persécutées en Iran et Afghanistan (et 
 ailleurs)\, des poèmes de poétesses du 19ème siècle et contemporaines\
 , elles-mêmes victimes de la répression religieuse ou patriarcale\, tell
 es Mahvash Sabet\, honorée du Prix Pen International et emprisonnée en I
 ran.\n\nLucien Crevel : Voix\, Philippe Fanise : piano\, Houtin Baghdadi :
  Târ\, Setâr\, Santour\n\n&nbsp\;\n\n&nbsp\;
ATTACH;FMTTYPE=image/jpeg:https://cafeculturelcitoyen.org/wp-content/uploa
 ds/2023/01/Capture-decran-2023-01-29-194625.png
END:VEVENT
BEGIN:VTIMEZONE
TZID:Europe/Paris
X-LIC-LOCATION:Europe/Paris
BEGIN:STANDARD
DTSTART:20221030T020000
TZOFFSETFROM:+0200
TZOFFSETTO:+0100
TZNAME:CET
END:STANDARD
END:VTIMEZONE
END:VCALENDAR