BEGIN:VCALENDAR
VERSION:2.0
PRODID:-//wp-events-plugin.com//7.2.3.1//EN
TZID:Europe/Paris
X-WR-TIMEZONE:Europe/Paris
BEGIN:VEVENT
UID:2282@cafeculturelcitoyen.org
DTSTART;TZID=Europe/Paris:20230526T203000
DTEND;TZID=Europe/Paris:20230526T220000
DTSTAMP:20230525T091303Z
URL:https://cafeculturelcitoyen.org/evenements/soiree-musicale-latina-morr
 ocoy-suivi-de-alvaro-andrea/
SUMMARY:Soirée Musiques du monde : Morrocoy - Mots et kora\, suivi de Alva
 ro & Andrea
DESCRIPTION:Première partie :\n\nMorrocoy est un trio qui associe une poé
 tesse\, Delphine Eyraud et deux musiciens\, Noémie Deux et Alvaro Figuero
 a Rodriguez\; les compositions de leur spectacle “Orquidea gozadera” s
 ont nées de rencontres entre la kora\, le texte poétique et les rythmes 
 du folklore latino-américain. Leur projet esthétique questionne les fron
 tières\, affirme la porosité entre les cultures\, en associant des langu
 es\, l’espagnol et le français\, et en entremêlant des instruments com
 me la kora africaine\, le charango andin ou la guitare électrique. Le spe
 ctacle vous invite à vous laisser entraîner dans un univers décalé de 
 mots et de notes. Le dire poétique nous permet de présenter un monde à 
 l’envers\, sens dessus dessous\, un univers baroque où les relations hu
 maines\, la violence d’un système oppressif et le devenir de la planèt
 e sont évoqués de manière oblique.\n\nDistribution : Noémie Deux\, Alv
 aro Figueroa Rodriguez\, Delphine Eyraud\n\nDeuxième partie :\n\nAlvaro &
 amp\; Andrea\n\nGuitariste\, arrangeur\, compositeur et multi-instrumentis
 te avec une carrière de plus de 18 ans dans la musique dans différents s
 tyles. J'ai participé à plus de 30 festivals à travers le monde représ
 entant le Chili et la culture latino-américaine.\nJ'ai produit 2 albums d
 e musique d'auteur et collaboré à plus de 10 productions musicales\n\nAn
 drea Mejia\, chanteusse\, guitariste et compositrice colombienne. Elle a s
 uivi une formation professionnelle à l'école des arts Débora Arango de 
 la ville de Medellín\, Colombie. Elle a passé une grande partie de sa vi
 e à voyager avec sa guitare et sa voix\, à partager de la musique et sur
 tout à apprendre de la richesse folklorique que possède le monde.
ATTACH;FMTTYPE=image/jpeg:https://cafeculturelcitoyen.org/wp-content/uploa
 ds/2023/05/Image1.jpg
END:VEVENT
BEGIN:VTIMEZONE
TZID:Europe/Paris
X-LIC-LOCATION:Europe/Paris
BEGIN:DAYLIGHT
DTSTART:20230326T030000
TZOFFSETFROM:+0100
TZOFFSETTO:+0200
TZNAME:CEST
END:DAYLIGHT
END:VTIMEZONE
END:VCALENDAR