BEGIN:VCALENDAR
VERSION:2.0
PRODID:-//wp-events-plugin.com//7.2.3.1//EN
TZID:Europe/Paris
X-WR-TIMEZONE:Europe/Paris
BEGIN:VEVENT
UID:2003@cafeculturelcitoyen.org
DTSTART;TZID=Europe/Paris:20230118T203000
DTEND;TZID=Europe/Paris:20230118T223000
DTSTAMP:20230101T110344Z
URL:https://cafeculturelcitoyen.org/evenements/soiree-musicale-kurde/
SUMMARY:Soirée musicale kurde
DESCRIPTION:Pour illustrer la conférence de l'IREMAM qui aura précédé\,
  mais également pour rendre hommage à la communauté kurde qui vient de 
 souffrir d'un attentat meurtrier à Paris\, nous accueillerons des ami-es 
 kurdes pour des moments musicaux issus du répertoire traditionnel ou impr
 ovisé kurde : daf (percussions)\, saz et tembur (cordes)
ATTACH;FMTTYPE=image/jpeg:https://cafeculturelcitoyen.org/wp-content/uploa
 ds/2023/01/294925418_3905284563028969_2693057988462132616_n.jpg
END:VEVENT
BEGIN:VTIMEZONE
TZID:Europe/Paris
X-LIC-LOCATION:Europe/Paris
BEGIN:STANDARD
DTSTART:20221030T020000
TZOFFSETFROM:+0200
TZOFFSETTO:+0100
TZNAME:CET
END:STANDARD
END:VTIMEZONE
END:VCALENDAR