BEGIN:VCALENDAR
VERSION:2.0
PRODID:-//wp-events-plugin.com//7.2.3.1//EN
TZID:Europe/Paris
X-WR-TIMEZONE:Europe/Paris
BEGIN:VEVENT
UID:1654@cafeculturelcitoyen.org
DTSTART;TZID=Europe/Paris:20220303T200000
DTEND;TZID=Europe/Paris:20220303T200000
DTSTAMP:20220225T151631Z
URL:https://cafeculturelcitoyen.org/evenements/soiree-libre/
SUMMARY:Soirée Libre
DESCRIPTION:Parfois rien est prévue ou un événement a été annulée à 
 la dernière minute. Mais le café reste ouvert !! Des jeux sont à dispos
 ition ainsi qu' un beau bar rempli de boissons alcoolisées ou non et une 
 scène avec des instruments.
ATTACH;FMTTYPE=image/jpeg:https://cafeculturelcitoyen.org/wp-content/uploa
 ds/2020/06/3CEte-Ban.jpg
END:VEVENT
BEGIN:VTIMEZONE
TZID:Europe/Paris
X-LIC-LOCATION:Europe/Paris
BEGIN:STANDARD
DTSTART:20211031T020000
TZOFFSETFROM:+0200
TZOFFSETTO:+0100
TZNAME:CET
END:STANDARD
END:VTIMEZONE
END:VCALENDAR