BEGIN:VCALENDAR
VERSION:2.0
PRODID:-//wp-events-plugin.com//7.2.3.1//EN
TZID:Europe/Paris
X-WR-TIMEZONE:Europe/Paris
BEGIN:VEVENT
UID:2234@cafeculturelcitoyen.org
DTSTART;TZID=Europe/Paris:20230310T203000
DTEND;TZID=Europe/Paris:20230310T220000
DTSTAMP:20230309T161020Z
URL:https://cafeculturelcitoyen.org/evenements/soiree-latina-avec-andrea-m
 ejia-tattiana-angel-alvaro-figueroa/
SUMMARY:Soirée latina avec Andrea Mejia\, Tattiana Angel\, Alvaro Figueroa
DESCRIPTION:Ces artistes nous avait régalé et fait danser il y a bien peu
  de temps\, faisant salle comble et sérieusement monter la température !
 \n\nCette fois-ci ils-elles rendront hommage aux chanteuses latino-améric
 aines dans le cadre de la semaine des droits des femmes\, et visiteront é
 galement des morceaux de musiques du monde.\n\nLa soirée est organisée e
 n amitié avec Lazos AMU - Association culturelle étudiante franco-latin@
 s
ATTACH;FMTTYPE=image/jpeg:https://cafeculturelcitoyen.org/wp-content/uploa
 ds/2023/03/Capture-decran-2023-03-09-170934.png
END:VEVENT
BEGIN:VTIMEZONE
TZID:Europe/Paris
X-LIC-LOCATION:Europe/Paris
BEGIN:STANDARD
DTSTART:20221030T020000
TZOFFSETFROM:+0200
TZOFFSETTO:+0100
TZNAME:CET
END:STANDARD
END:VTIMEZONE
END:VCALENDAR