BEGIN:VCALENDAR
VERSION:2.0
PRODID:-//wp-events-plugin.com//7.2.3.1//EN
TZID:Europe/Paris
X-WR-TIMEZONE:Europe/Paris
BEGIN:VEVENT
UID:2045@cafeculturelcitoyen.org
DTSTART;TZID=Europe/Paris:20230222T200000
DTEND;TZID=Europe/Paris:20230222T230000
DTSTAMP:20230130T153909Z
URL:https://cafeculturelcitoyen.org/evenements/soiree-karaoke/
SUMMARY:Soirée Karaoké
DESCRIPTION:Tu veux t’entrainer pour la nouvelle star ? Chanter les plus 
 grands tubes à l'unisson ? Ou déclarer ta flamme en chanson? On a un vid
 éo proj\, des micros et une sono de dingue. Nos bénévoles organisent LA
  soirée karaoké sur Aix !!
ATTACH;FMTTYPE=image/jpeg:https://cafeculturelcitoyen.org/wp-content/uploa
 ds/2021/11/Sans-titre76.png
END:VEVENT
BEGIN:VTIMEZONE
TZID:Europe/Paris
X-LIC-LOCATION:Europe/Paris
BEGIN:STANDARD
DTSTART:20221030T020000
TZOFFSETFROM:+0200
TZOFFSETTO:+0100
TZNAME:CET
END:STANDARD
END:VTIMEZONE
END:VCALENDAR