BEGIN:VCALENDAR
VERSION:2.0
PRODID:-//wp-events-plugin.com//7.2.3.1//EN
TZID:Europe/Paris
X-WR-TIMEZONE:Europe/Paris
BEGIN:VEVENT
UID:2727@cafeculturelcitoyen.org
DTSTART;TZID=Europe/Paris:20240126T203000
DTEND;TZID=Europe/Paris:20240126T230000
DTSTAMP:20240123T225055Z
URL:https://cafeculturelcitoyen.org/evenements/soiree-karaoke-3/
SUMMARY:Soirée Karaoké
DESCRIPTION:Nos bénévoles organisent LA soirée karaoké sur Aix !!
ATTACH;FMTTYPE=image/jpeg:https://cafeculturelcitoyen.org/wp-content/uploa
 ds/2021/11/illustration-soiree-karaoke-et-dansante_1-1553602866.jpg
END:VEVENT
BEGIN:VTIMEZONE
TZID:Europe/Paris
X-LIC-LOCATION:Europe/Paris
BEGIN:STANDARD
DTSTART:20231029T020000
TZOFFSETFROM:+0200
TZOFFSETTO:+0100
TZNAME:CET
END:STANDARD
END:VTIMEZONE
END:VCALENDAR