BEGIN:VCALENDAR
VERSION:2.0
PRODID:-//wp-events-plugin.com//7.2.3.1//EN
TZID:Europe/Paris
X-WR-TIMEZONE:Europe/Paris
BEGIN:VEVENT
UID:1892@cafeculturelcitoyen.org
DTSTART;TZID=Europe/Paris:20221101T190000
DTEND;TZID=Europe/Paris:20221101T220000
DTSTAMP:20220929T131859Z
URL:https://cafeculturelcitoyen.org/evenements/soiree-jeux-de-societe-tabl
 es-de-contree-34/
SUMMARY:Soirée Jeux de société / tables de contrée
DESCRIPTION:Une fois par mois\, le Café Culturel Citoyen vous invite à un
 e soirée Jeux !\nDe 19h à 22h tou-te-s les joueur-ses\, débutant-es\, i
 ntermédiaires et confirmé-es sont bienvenu-es!\nDe nombreux jeux sont à
  disposition au café.\nIl est aussi possible d'amener vos propres jeux de
  cartes ou de plateau !\n_________________
ATTACH;FMTTYPE=image/jpeg:https://cafeculturelcitoyen.org/wp-content/uploa
 ds/2020/01/cards-766106_1920.jpg
END:VEVENT
BEGIN:VTIMEZONE
TZID:Europe/Paris
X-LIC-LOCATION:Europe/Paris
BEGIN:STANDARD
DTSTART:20221030T020000
TZOFFSETFROM:+0200
TZOFFSETTO:+0100
TZNAME:CET
END:STANDARD
END:VTIMEZONE
END:VCALENDAR