BEGIN:VCALENDAR
VERSION:2.0
PRODID:-//wp-events-plugin.com//7.2.3.1//EN
TZID:Europe/Paris
X-WR-TIMEZONE:Europe/Paris
BEGIN:VEVENT
UID:1528@cafeculturelcitoyen.org
DTSTART;TZID=Europe/Paris:20220607T190000
DTEND;TZID=Europe/Paris:20220607T210000
DTSTAMP:20220603T175052Z
URL:https://cafeculturelcitoyen.org/evenements/soiree-jeux-de-societe-tabl
 es-de-contree-31/
SUMMARY:Pot de départ de l'incroyable Géraldine !
DESCRIPTION:b\nUn mardi par mois\, le Café Culturel Citoyen vous invite à
  une soirée Jeux !\nTou-te-s les joueur-ses\, débutant-es\, intermédiai
 res et confirmé-es sont bienvenu-es!\nDe nombreux jeux sont à dispositio
 n au café.\nIl est aussi possible d'amener vos propres jeux de cartes ou 
 de plateau !
ATTACH;FMTTYPE=image/jpeg:https://cafeculturelcitoyen.org/wp-content/uploa
 ds/2020/01/cards-766106_1920.jpg
END:VEVENT
BEGIN:VTIMEZONE
TZID:Europe/Paris
X-LIC-LOCATION:Europe/Paris
BEGIN:DAYLIGHT
DTSTART:20220327T030000
TZOFFSETFROM:+0100
TZOFFSETTO:+0200
TZNAME:CEST
END:DAYLIGHT
END:VTIMEZONE
END:VCALENDAR