BEGIN:VCALENDAR
VERSION:2.0
PRODID:-//wp-events-plugin.com//7.2.3.1//EN
TZID:Europe/Paris
X-WR-TIMEZONE:Europe/Paris
BEGIN:VEVENT
UID:1576@cafeculturelcitoyen.org
DTSTART;TZID=Europe/Paris:20220415T170000
DTEND;TZID=Europe/Paris:20220415T190000
DTSTAMP:20220402T132728Z
URL:https://cafeculturelcitoyen.org/evenements/soiree-formation-benevole/
SUMMARY:Découverte du Bénévolat au 3C
DESCRIPTION:Notre prochaine session de découverte du bénévolat au 3C aur
 a lieu Vendredi 15 avril  à 17h.\n\nCet événement est ouvert à tout l
 e monde\, les personnes curieuses comme les futures bénévoles.\nÇa sera
  l’occasion pour les personnes intéressées de rencontrer d’autres b
 énévoles\, de comprendre le fonctionnement du 3C et de voir toutes les o
 pportunités qui peuvent s'offrir aux bénévoles pour le faire vivre : br
 icolage\, bar\, communication\, végétalisation des espaces\, informatiqu
 e\, programmation\, approvisionnement etc.\n\n\nPour plus d'infos n'hésit
 ez pas à nous écrire à benevolatle3c@gmail.com
ATTACH;FMTTYPE=image/jpeg:https://cafeculturelcitoyen.org/wp-content/uploa
 ds/2019/05/End-of-season-sale2.png
END:VEVENT
BEGIN:VTIMEZONE
TZID:Europe/Paris
X-LIC-LOCATION:Europe/Paris
BEGIN:DAYLIGHT
DTSTART:20220327T030000
TZOFFSETFROM:+0100
TZOFFSETTO:+0200
TZNAME:CEST
END:DAYLIGHT
END:VTIMEZONE
END:VCALENDAR