BEGIN:VCALENDAR
VERSION:2.0
PRODID:-//wp-events-plugin.com//7.2.3.1//EN
TZID:Europe/Paris
X-WR-TIMEZONE:Europe/Paris
BEGIN:VEVENT
UID:1755@cafeculturelcitoyen.org
DTSTART;TZID=Europe/Paris:20220602T190000
DTEND;TZID=Europe/Paris:20220602T220000
DTSTAMP:20220531T165931Z
URL:https://cafeculturelcitoyen.org/evenements/soiree-du-fun-entre-benevol
 es/
SUMMARY:Soirée du fun entre bénévoles
DESCRIPTION:Coucou les bénévoles\,\n\nCette soirée vous est dédiée !! 
 Venez nombreux\, discuter\, échanger et jouer de la musique .... sur notr
 e SCENE OUVERTE !!\n\nPossibilité de dégénérescence absolue\, bisous &
 lt\;3
END:VEVENT
BEGIN:VTIMEZONE
TZID:Europe/Paris
X-LIC-LOCATION:Europe/Paris
BEGIN:DAYLIGHT
DTSTART:20220327T030000
TZOFFSETFROM:+0100
TZOFFSETTO:+0200
TZNAME:CEST
END:DAYLIGHT
END:VTIMEZONE
END:VCALENDAR