BEGIN:VCALENDAR
VERSION:2.0
PRODID:-//wp-events-plugin.com//7.2.3.1//EN
TZID:Europe/Paris
X-WR-TIMEZONE:Europe/Paris
BEGIN:VEVENT
UID:2599@cafeculturelcitoyen.org
DTSTART;TZID=Europe/Paris:20240113T190000
DTEND;TZID=Europe/Paris:20240113T201500
DTSTAMP:20231127T145717Z
URL:https://cafeculturelcitoyen.org/evenements/soiree-contes-de-marseille/
SUMMARY:Soirée Contes de Marseille
DESCRIPTION:Bernard Ghirardi (conteur)\, Francesca Cotoio (conteuse) et Erw
 an Baillet nous proposent une soirée ''Contes de Marseille''. Il s'agit d
 e revisitations en parler marseillais de fables de La Fontaine et de conte
 s traditionnels (Blanche-Neige\, Cendrillon\,...).\nUne partie musicale se
 ra consacrée aux déboires du roi Dagobert en visite dans notre région (
 sur l'air de la contine).\nAvertissement: les enfants sont admis parmi le 
 public. Des gros mots ont pu se glisser dans les textes\, ils auront le dr
 oit de les écouter mais pas de les répéter.\n
ATTACH;FMTTYPE=image/jpeg:https://cafeculturelcitoyen.org/wp-content/uploa
 ds/2023/11/6037483617991722288-5.jpg
END:VEVENT
BEGIN:VTIMEZONE
TZID:Europe/Paris
X-LIC-LOCATION:Europe/Paris
BEGIN:STANDARD
DTSTART:20231029T020000
TZOFFSETFROM:+0200
TZOFFSETTO:+0100
TZNAME:CET
END:STANDARD
END:VTIMEZONE
END:VCALENDAR