BEGIN:VCALENDAR
VERSION:2.0
PRODID:-//wp-events-plugin.com//7.2.3.1//EN
TZID:Europe/Paris
X-WR-TIMEZONE:Europe/Paris
BEGIN:VEVENT
UID:1776@cafeculturelcitoyen.org
DTSTART;TZID=Europe/Paris:20220622T203000
DTEND;TZID=Europe/Paris:20220622T213000
DTSTAMP:20220617T111046Z
URL:https://cafeculturelcitoyen.org/evenements/soiree-contes-avec-romarine
 /
SUMMARY:Soirée Contes avec Romarine
DESCRIPTION:Une soirée pour voyager de conte en conte\, s’émerveiller d
 e peu et grandir beaucoup...\nJe conte depuis peu et fait le grand saut av
 ec vous ce soir !\n\n&nbsp\;
ATTACH;FMTTYPE=image/jpeg:https://cafeculturelcitoyen.org/wp-content/uploa
 ds/2022/06/Image2.png
END:VEVENT
BEGIN:VTIMEZONE
TZID:Europe/Paris
X-LIC-LOCATION:Europe/Paris
BEGIN:DAYLIGHT
DTSTART:20220327T030000
TZOFFSETFROM:+0100
TZOFFSETTO:+0200
TZNAME:CEST
END:DAYLIGHT
END:VTIMEZONE
END:VCALENDAR