BEGIN:VCALENDAR
VERSION:2.0
PRODID:-//wp-events-plugin.com//7.2.3.1//EN
TZID:Europe/Paris
X-WR-TIMEZONE:Europe/Paris
BEGIN:VEVENT
UID:1947@cafeculturelcitoyen.org
DTSTART;TZID=Europe/Paris:20221130T190000
DTEND;TZID=Europe/Paris:20221130T210000
DTSTAMP:20221129T164125Z
URL:https://cafeculturelcitoyen.org/evenements/soiree-attac-pays-daix/
SUMMARY:Soirée ATTAC Pays d'Aix - Vous avez dit travail ?
DESCRIPTION:« Vous avez-dit travail ?»\n\nTravail insoutenable\, droits s
 ociaux en lambeaux : les deux faces du projet néolibéral. Statut du trav
 ail\, droits sociaux : solidariser ce(ux) que le néo-libéralisme oppose.
 \n\nCes thèmes seront développés par Paul Bouffartigue\, sociologue\, d
 irecteur de recherche au CNRS dans le domaine de la sociologie du\ntravail
 . Il définira au préalable le notion de travail.\n\nAttac pays d'Aix :\n
 Courriel : aix@attac.org\nSite d'Attac pays d'Aix : https://local.attac.or
 g/13/aix/\n\nAttac pays d’Aix sur facebook : https://www.facebook.com/At
 tac-Pays-dAix-836077823130976/\n\nSite d'Attac France : https://france.att
 ac.org/
ATTACH;FMTTYPE=image/jpeg:https://cafeculturelcitoyen.org/wp-content/uploa
 ds/2022/10/Capture-decran-2022-11-16-095224.png
END:VEVENT
BEGIN:VTIMEZONE
TZID:Europe/Paris
X-LIC-LOCATION:Europe/Paris
BEGIN:STANDARD
DTSTART:20221030T020000
TZOFFSETFROM:+0200
TZOFFSETTO:+0100
TZNAME:CET
END:STANDARD
END:VTIMEZONE
END:VCALENDAR