BEGIN:VCALENDAR
VERSION:2.0
PRODID:-//wp-events-plugin.com//7.2.3.1//EN
TZID:Europe/Paris
X-WR-TIMEZONE:Europe/Paris
BEGIN:VEVENT
UID:1725@cafeculturelcitoyen.org
DTSTART;TZID=Europe/Paris:20220505T193000
DTEND;TZID=Europe/Paris:20220505T224500
DTSTAMP:20220426T131157Z
URL:https://cafeculturelcitoyen.org/evenements/soiree-attac-en-therapie/
SUMMARY:Soirée Attac : En thérapie !
DESCRIPTION:Soirée Attac : En thérapie !\n\nAprès cette séquence élect
 orale éprouvante\, retrouvons nous pour analyser\, échanger et repartir 
 plus fort.e.s !
ATTACH;FMTTYPE=image/jpeg:https://cafeculturelcitoyen.org/wp-content/uploa
 ds/2022/04/Sans-titre50.jpg
END:VEVENT
BEGIN:VTIMEZONE
TZID:Europe/Paris
X-LIC-LOCATION:Europe/Paris
BEGIN:DAYLIGHT
DTSTART:20220327T030000
TZOFFSETFROM:+0100
TZOFFSETTO:+0200
TZNAME:CEST
END:DAYLIGHT
END:VTIMEZONE
END:VCALENDAR