BEGIN:VCALENDAR
VERSION:2.0
PRODID:-//wp-events-plugin.com//7.2.3.1//EN
TZID:Europe/Paris
X-WR-TIMEZONE:Europe/Paris
BEGIN:VEVENT
UID:2275@cafeculturelcitoyen.org
DTSTART;TZID=Europe/Paris:20230524T190000
DTEND;TZID=Europe/Paris:20230524T220000
DTSTAMP:20230503T081358Z
URL:https://cafeculturelcitoyen.org/evenements/soiree-article-1-prendre-le
 -pouvoir-sur-lavenir/
SUMMARY:Soirée Article 1 - Prendre le pouvoir sur l'avenir
DESCRIPTION:Née de la fusion de deux associations majeures de lutte contre
  l’inégalité des chances -Fratelli &amp\; Passeport Avenir- Article 1 
 œuvre pour une société où l’orientation\, la réussite dans les étu
 des et l’insertion professionnelle ne dépendent pas des origines social
 es\, économiques et culturelles \; pour une société où la réussite pa
 sse par le lien social et l’engagement citoyen.
ATTACH;FMTTYPE=image/jpeg:https://cafeculturelcitoyen.org/wp-content/uploa
 ds/2023/04/Capture-decran-2023-04-28-105453.png
END:VEVENT
BEGIN:VTIMEZONE
TZID:Europe/Paris
X-LIC-LOCATION:Europe/Paris
BEGIN:DAYLIGHT
DTSTART:20230326T030000
TZOFFSETFROM:+0100
TZOFFSETTO:+0200
TZNAME:CEST
END:DAYLIGHT
END:VTIMEZONE
END:VCALENDAR