BEGIN:VCALENDAR
VERSION:2.0
PRODID:-//wp-events-plugin.com//7.2.3.1//EN
TZID:Europe/Paris
X-WR-TIMEZONE:Europe/Paris
BEGIN:VEVENT
UID:2568@cafeculturelcitoyen.org
DTSTART;TZID=Europe/Paris:20231130T203000
DTEND;TZID=Europe/Paris:20231130T203000
DTSTAMP:20231110T130830Z
URL:https://cafeculturelcitoyen.org/evenements/seule-en-scene-ada-mondes-_
 -ecrire-debout-carnet-de-voyage-vivant/
SUMMARY:Seule-en-scène : Ada Mondès _ ÉCRIRE DEBOUT - Carnet de Voyage V
 ivant
DESCRIPTION:ÉCRIRE DEBOUT -\nCarnet de Voyage Vivant _\nSeule-en-scène bi
 lingue franco-espagnol.
ATTACH;FMTTYPE=image/jpeg:https://cafeculturelcitoyen.org/wp-content/uploa
 ds/2023/11/ada-montes.jpeg
END:VEVENT
BEGIN:VTIMEZONE
TZID:Europe/Paris
X-LIC-LOCATION:Europe/Paris
BEGIN:STANDARD
DTSTART:20231029T020000
TZOFFSETFROM:+0200
TZOFFSETTO:+0100
TZNAME:CET
END:STANDARD
END:VTIMEZONE
END:VCALENDAR