BEGIN:VCALENDAR
VERSION:2.0
PRODID:-//wp-events-plugin.com//7.2.3.1//EN
TZID:Europe/Paris
X-WR-TIMEZONE:Europe/Paris
BEGIN:VEVENT
UID:2104@cafeculturelcitoyen.org
DTSTART;TZID=Europe/Paris:20231027T200000
DTEND;TZID=Europe/Paris:20231027T230000
DTSTAMP:20231116T164108Z
URL:https://cafeculturelcitoyen.org/evenements/session-musique-irlandaise-
 2023-10-27/
SUMMARY:Session musique irlandaise
DESCRIPTION:Une session irlandaise est une réunion de musicien-ne-s\, pour
  converser et jouer de la musique traditionnelle irlandaise. La session es
 t annoncée ouverte\, tout-e musicien-ne peut se joindre aux autres pour j
 ouer de la musique trad' irlandaise. Chacun-e peut tour à tour lancer une
  mélodie ou une suite de mélodies.\nQue vous soyez musicien-ne ou pas\, 
 danseur-se ou pas\, mélomane ou pas\, vous êtes tous-tes les bienvenu-es
  !\nTous les 1ers vendredis du mois\n_____________________________\n\n
ATTACH;FMTTYPE=image/jpeg:https://cafeculturelcitoyen.org/wp-content/uploa
 ds/2017/08/Session-Irlandaise-SITE.jpg
END:VEVENT
BEGIN:VTIMEZONE
TZID:Europe/Paris
X-LIC-LOCATION:Europe/Paris
BEGIN:DAYLIGHT
DTSTART:20230326T030000
TZOFFSETFROM:+0100
TZOFFSETTO:+0200
TZNAME:CEST
END:DAYLIGHT
END:VTIMEZONE
END:VCALENDAR